Workbook
Name mpc: 'The Multiplier Model'!$B$3

Sheet The Multiplier Model
A1: Input the marginal propensity to consume and the increase in investment below
A3: MPC | B3: 0.5
A4: Change in investment | B4: 10 | C4: (NB: Initial level of output is set to 100, so any figure you input is an equivalent percentage of initial output)

Sheet Calculations (locked)
A1: round (k) | B1: subround (AD_k=AD(y_k-1,2); y_k,1=y_k-1,2; y_k,2=AD_k) | C1: Change in investment | D1: Change in income-dependent consumption | E1: Change in AD | F1: Change in Y | G1: Path of AD and Y | H1: Equilibrium impact on Y | J1: Y=AD | K1: Old AD function | L1: New AD function | M1: Path of Y | N1: Path of AD&Y
A2: 1 | B2: 1 | C2: 0 | D2: =mpc*F2 -> 0 | E2: =C2+D2 -> 0 | F2: 0 | G2: =F2 -> 0 | J2: 0 | K2: =J$3*(1-mpc)+mpc*J2 -> 50 | L2: =K2+C3 -> 60 | M2: =J$3+F2 -> 100 | N2: =J$3+G2 -> 100
A3: =A2 -> 1 | B3: 2 | C3: ='The Multiplier Model'!B$4 -> 10 | D3: =mpc*F3 -> 0 | E3: =C3+D3 -> 10 | F3: =F2 -> 0 | G3: =E3 -> 10 | H3: ='The Multiplier Model'!B$4/(1-mpc) -> 20 | I3: old | J3: 100 | K3: =J$3*(1-mpc)+mpc*J3 -> 100 | L3: =K3+C4 -> 110 | M3: =J$3+F3 -> 100 | N3: =J$3+G3 -> 110
A4: =A3+1 -> 2 | B4: 1 | C4: ='The Multiplier Model'!B$4 -> 10 | D4: =mpc*F4 -> 5 | E4: =C4+D4 -> 15 | F4: =E3 -> 10 | G4: =F4 -> 10 | H4: ='The Multiplier Model'!B$4/(1-mpc) -> 20 | I4: new | J4: =J3+H3 -> 120 | K4: =J$3*(1-mpc)+mpc*J4 -> 110 | L4: =K4+C5 -> 120 | M4: =J$3+F4 -> 110 | N4: =J$3+G4 -> 110
A5: =A4 -> 2 | B5: 2 | C5: ='The Multiplier Model'!B$4 -> 10 | D5: =mpc*F5 -> 5 | E5: =C5+D5 -> 15 | F5: =F4 -> 10 | G5: =E5 -> 15 | H5: ='The Multiplier Model'!B$4/(1-mpc) -> 20 | I5: beyond max(new,old) | J5: =J3+MAX(1.5*H3,0.2*J3) -> 130 | K5: =J$3*(1-mpc)+mpc*J5 -> 115 | L5: =K5+C6 -> 125 | M5: =J$3+F5 -> 110 | N5: =J$3+G5 -> 115
A6: =A5+1 -> 3 | B6: 1 | C6: ='The Multiplier Model'!B$4 -> 10 | D6: =mpc*F6 -> 7.5 | E6: =C6+D6 -> 17.5 | F6: =E5 -> 15 | G6: =F6 -> 15 | H6: ='The Multiplier Model'!B$4/(1-mpc) -> 20 | M6: =J$3+F6 -> 115 | N6: =J$3+G6 -> 115
A7: =A6 -> 3 | B7: 2 | C7: ='The Multiplier Model'!B$4 -> 10 | D7: =mpc*F7 -> 7.5 | E7: =C7+D7 -> 17.5 | F7: =F6 -> 15 | G7: =E7 -> 17.5 | H7: ='The Multiplier Model'!B$4/(1-mpc) -> 20 | M7: =J$3+F7 -> 115 | N7: =J$3+G7 -> 117.5
A8: =A7+1 -> 4 | B8: 1 | C8: ='The Multiplier Model'!B$4 -> 10 | D8: =mpc*F8 -> 8.75 | E8: =C8+D8 -> 18.75 | F8: =E7 -> 17.5 | G8: =F8 -> 17.5 | H8: ='The Multiplier Model'!B$4/(1-mpc) -> 20 | M8: =J$3+F8 -> 117.5 | N8: =J$3+G8 -> 117.5
A9: =A8 -> 4 | B9: 2 | C9: ='The Multiplier Model'!B$4 -> 10 | D9: =mpc*F9 -> 8.75 | E9: =C9+D9 -> 18.75 | F9: =F8 -> 17.5 | G9: =E9 -> 18.75 | H9: ='The Multiplier Model'!B$4/(1-mpc) -> 20 | M9: =J$3+F9 -> 117.5 | N9: =J$3+G9 -> 118.75
A10: =A9+1 -> 5 | B10: 1 | C10: ='The Multiplier Model'!B$4 -> 10 | D10: =mpc*F10 -> 9.375 | E10: =C10+D10 -> 19.375 | F10: =E9 -> 18.75 | G10: =F10 -> 18.75 | H10: ='The Multiplier Model'!B$4/(1-mpc) -> 20 | M10: =J$3+F10 -> 118.75 | N10: =J$3+G10 -> 118.75
A11: =A10 -> 5 | B11: 2 | C11: ='The Multiplier Model'!B$4 -> 10 | D11: =mpc*F11 -> 9.375 | E11: =C11+D11 -> 19.375 | F11: =F10 -> 18.75 | G11: =E11 -> 19.375 | H11: ='The Multiplier Model'!B$4/(1-mpc) -> 20 | M11: =J$3+F11 -> 118.75 | N11: =J$3+G11 -> 119.375
A12: =A11+1 -> 6 | B12: 1 | C12: ='The Multiplier Model'!B$4 -> 10 | D12: =mpc*F12 -> 9.6875 | E12: =C12+D12 -> 19.6875 | F12: =E11 -> 19.375 | G12: =F12 -> 19.375 | H12: ='The Multiplier Model'!B$4/(1-mpc) -> 20 | M12: =J$3+F12 -> 119.375 | N12: =J$3+G12 -> 119.375
A13: =A12 -> 6 | B13: 2 | C13: ='The Multiplier Model'!B$4 -> 10 | D13: =mpc*F13 -> 9.6875 | E13: =C13+D13 -> 19.6875 | F13: =F12 -> 19.375 | G13: =E13 -> 19.6875 | H13: ='The Multiplier Model'!B$4/(1-mpc) -> 20 | M13: =J$3+F13 -> 119.375 | N13: =J$3+G13 -> 119.6875
A14: =A13+1 -> 7 | B14: 1 | C14: ='The Multiplier Model'!B$4 -> 10 | D14: =mpc*F14 -> 9.84375 | E14: =C14+D14 -> 19.84375 | F14: =E13 -> 19.6875 | G14: =F14 -> 19.6875 | H14: ='The Multiplier Model'!B$4/(1-mpc) -> 20 | M14: =J$3+F14 -> 119.6875 | N14: =J$3+G14 -> 119.6875
A15: =A14 -> 7 | B15: 2 | C15: ='The Multiplier Model'!B$4 -> 10 | D15: =mpc*F15 -> 9.84375 | E15: =C15+D15 -> 19.84375 | F15: =F14 -> 19.6875 | G15: =E15 -> 19.84375 | H15: ='The Multiplier Model'!B$4/(1-mpc) -> 20 | M15: =J$3+F15 -> 119.6875 | N15: =J$3+G15 -> 119.84375
A16: =A15+1 -> 8 | B16: 1 | C16: ='The Multiplier Model'!B$4 -> 10 | D16: =mpc*F16 -> 9.921875 | E16: =C16+D16 -> 19.921875 | F16: =E15 -> 19.84375 | G16: =F16 -> 19.84375 | H16: ='The Multiplier Model'!B$4/(1-mpc) -> 20 | M16: =J$3+F16 -> 119.84375 | N16: =J$3+G16 -> 119.84375
A17: =A16 -> 8 | B17: 2 | C17: ='The Multiplier Model'!B$4 -> 10 | D17: =mpc*F17 -> 9.921875 | E17: =C17+D17 -> 19.921875 | F17: =F16 -> 19.84375 | G17: =E17 -> 19.921875 | H17: ='The Multiplier Model'!B$4/(1-mpc) -> 20 | M17: =J$3+F17 -> 119.84375 | N17: =J$3+G17 -> 119.92188
A18: =A17+1 -> 9 | B18: 1 | C18: ='The Multiplier Model'!B$4 -> 10 | D18: =mpc*F18 -> 9.9609375 | E18: =C18+D18 -> 19.960938 | F18: =E17 -> 19.921875 | G18: =F18 -> 19.921875 | H18: ='The Multiplier Model'!B$4/(1-mpc) -> 20 | M18: =J$3+F18 -> 119.92188 | N18: =J$3+G18 -> 119.92188
A19: =A18 -> 9 | B19: 2 | C19: ='The Multiplier Model'!B$4 -> 10 | D19: =mpc*F19 -> 9.9609375 | E19: =C19+D19 -> 19.960938 | F19: =F18 -> 19.921875 | G19: =E19 -> 19.960938 | H19: ='The Multiplier Model'!B$4/(1-mpc) -> 20 | M19: =J$3+F19 -> 119.92188 | N19: =J$3+G19 -> 119.96094
A20: =A19+1 -> 10 | B20: 1 | C20: ='The Multiplier Model'!B$4 -> 10 | D20: =mpc*F20 -> 9.9804688 | E20: =C20+D20 -> 19.980469 | F20: =E19 -> 19.960938 | G20: =F20 -> 19.960938 | H20: ='The Multiplier Model'!B$4/(1-mpc) -> 20 | M20: =J$3+F20 -> 119.96094 | N20: =J$3+G20 -> 119.96094
A21: =A20 -> 10 | B21: 2 | C21: ='The Multiplier Model'!B$4 -> 10 | D21: =mpc*F21 -> 9.9804688 | E21: =C21+D21 -> 19.980469 | F21: =F20 -> 19.960938 | G21: =E21 -> 19.980469 | H21: ='The Multiplier Model'!B$4/(1-mpc) -> 20 | M21: =J$3+F21 -> 119.96094 | N21: =J$3+G21 -> 119.98047
A22: =A21+1 -> 11 | B22: 1 | C22: ='The Multiplier Model'!B$4 -> 10 | D22: =mpc*F22 -> 9.9902344 | E22: =C22+D22 -> 19.990234 | F22: =E21 -> 19.980469 | G22: =F22 -> 19.980469 | H22: ='The Multiplier Model'!B$4/(1-mpc) -> 20 | M22: =J$3+F22 -> 119.98047 | N22: =J$3+G22 -> 119.98047
A23: =A22 -> 11 | B23: 2 | C23: ='The Multiplier Model'!B$4 -> 10 | D23: =mpc*F23 -> 9.9902344 | E23: =C23+D23 -> 19.990234 | F23: =F22 -> 19.980469 | G23: =E23 -> 19.990234 | H23: ='The Multiplier Model'!B$4/(1-mpc) -> 20 | M23: =J$3+F23 -> 119.98047 | N23: =J$3+G23 -> 119.99023
A24: =A23+1 -> 12 | B24: 1 | C24: ='The Multiplier Model'!B$4 -> 10 | D24: =mpc*F24 -> 9.9951172 | E24: =C24+D24 -> 19.995117 | F24: =E23 -> 19.990234 | G24: =F24 -> 19.990234 | H24: ='The Multiplier Model'!B$4/(1-mpc) -> 20 | M24: =J$3+F24 -> 119.99023 | N24: =J$3+G24 -> 119.99023
A25: =A24 -> 12 | B25: 2 | C25: ='The Multiplier Model'!B$4 -> 10 | D25: =mpc*F25 -> 9.9951172 | E25: =C25+D25 -> 19.995117 | F25: =F24 -> 19.990234 | G25: =E25 -> 19.995117 | H25: ='The Multiplier Model'!B$4/(1-mpc) -> 20 | M25: =J$3+F25 -> 119.99023 | N25: =J$3+G25 -> 119.99512
A26: =A25+1 -> 13 | B26: 1 | C26: ='The Multiplier Model'!B$4 -> 10 | D26: =mpc*F26 -> 9.9975586 | E26: =C26+D26 -> 19.997559 | F26: =E25 -> 19.995117 | G26: =F26 -> 19.995117 | H26: ='The Multiplier Model'!B$4/(1-mpc) -> 20 | M26: =J$3+F26 -> 119.99512 | N26: =J$3+G26 -> 119.99512
A27: =A26 -> 13 | B27: 2 | C27: ='The Multiplier Model'!B$4 -> 10 | D27: =mpc*F27 -> 9.9975586 | E27: =C27+D27 -> 19.997559 | F27: =F26 -> 19.995117 | G27: =E27 -> 19.997559 | H27: ='The Multiplier Model'!B$4/(1-mpc) -> 20 | M27: =J$3+F27 -> 119.99512 | N27: =J$3+G27 -> 119.99756
A28: =A27+1 -> 14 | B28: 1 | C28: ='The Multiplier Model'!B$4 -> 10 | D28: =mpc*F28 -> 9.9987793 | E28: =C28+D28 -> 19.998779 | F28: =E27 -> 19.997559 | G28: =F28 -> 19.997559 | H28: ='The Multiplier Model'!B$4/(1-mpc) -> 20 | M28: =J$3+F28 -> 119.99756 | N28: =J$3+G28 -> 119.99756
A29: =A28 -> 14 | B29: 2 | C29: ='The Multiplier Model'!B$4 -> 10 | D29: =mpc*F29 -> 9.9987793 | E29: =C29+D29 -> 19.998779 | F29: =F28 -> 19.997559 | G29: =E29 -> 19.998779 | H29: ='The Multiplier Model'!B$4/(1-mpc) -> 20 | M29: =J$3+F29 -> 119.99756 | N29: =J$3+G29 -> 119.99878
A30: =A29+1 -> 15 | B30: 1 | C30: ='The Multiplier Model'!B$4 -> 10 | D30: =mpc*F30 -> 9.9993896 | E30: =C30+D30 -> 19.99939 | F30: =E29 -> 19.998779 | G30: =F30 -> 19.998779 | H30: ='The Multiplier Model'!B$4/(1-mpc) -> 20 | M30: =J$3+F30 -> 119.99878 | N30: =J$3+G30 -> 119.99878
A31: =A30 -> 15 | B31: 2 | C31: ='The Multiplier Model'!B$4 -> 10 | D31: =mpc*F31 -> 9.9993896 | E31: =C31+D31 -> 19.99939 | F31: =F30 -> 19.998779 | G31: =E31 -> 19.99939 | H31: ='The Multiplier Model'!B$4/(1-mpc) -> 20 | M31: =J$3+F31 -> 119.99878 | N31: =J$3+G31 -> 119.99939
A32: =A31+1 -> 16 | B32: 1 | C32: ='The Multiplier Model'!B$4 -> 10 | D32: =mpc*F32 -> 9.9996948 | E32: =C32+D32 -> 19.999695 | F32: =E31 -> 19.99939 | G32: =F32 -> 19.99939 | H32: ='The Multiplier Model'!B$4/(1-mpc) -> 20 | M32: =J$3+F32 -> 119.99939 | N32: =J$3+G32 -> 119.99939
A33: =A32 -> 16 | B33: 2 | C33: ='The Multiplier Model'!B$4 -> 10 | D33: =mpc*F33 -> 9.9996948 | E33: =C33+D33 -> 19.999695 | F33: =F32 -> 19.99939 | G33: =E33 -> 19.999695 | H33: ='The Multiplier Model'!B$4/(1-mpc) -> 20 | M33: =J$3+F33 -> 119.99939 | N33: =J$3+G33 -> 119.99969
A34: =A33+1 -> 17 | B34: 1 | C34: ='The Multiplier Model'!B$4 -> 10 | D34: =mpc*F34 -> 9.9998474 | E34: =C34+D34 -> 19.999847 | F34: =E33 -> 19.999695 | G34: =F34 -> 19.999695 | H34: ='The Multiplier Model'!B$4/(1-mpc) -> 20 | M34: =J$3+F34 -> 119.99969 | N34: =J$3+G34 -> 119.99969
A35: =A34 -> 17 | B35: 2 | C35: ='The Multiplier Model'!B$4 -> 10 | D35: =mpc*F35 -> 9.9998474 | E35: =C35+D35 -> 19.999847 | F35: =F34 -> 19.999695 | G35: =E35 -> 19.999847 | H35: ='The Multiplier Model'!B$4/(1-mpc) -> 20 | M35: =J$3+F35 -> 119.99969 | N35: =J$3+G35 -> 119.99985
A36: =A35+1 -> 18 | B36: 1 | C36: ='The Multiplier Model'!B$4 -> 10 | D36: =mpc*F36 -> 9.9999237 | E36: =C36+D36 -> 19.999924 | F36: =E35 -> 19.999847 | G36: =F36 -> 19.999847 | H36: ='The Multiplier Model'!B$4/(1-mpc) -> 20 | M36: =J$3+F36 -> 119.99985 | N36: =J$3+G36 -> 119.99985
A37: =A36 -> 18 | B37: 2 | C37: ='The Multiplier Model'!B$4 -> 10 | D37: =mpc*F37 -> 9.9999237 | E37: =C37+D37 -> 19.999924 | F37: =F36 -> 19.999847 | G37: =E37 -> 19.999924 | H37: ='The Multiplier Model'!B$4/(1-mpc) -> 20 | M37: =J$3+F37 -> 119.99985 | N37: =J$3+G37 -> 119.99992
A38: =A37+1 -> 19 | B38: 1 | C38: ='The Multiplier Model'!B$4 -> 10 | D38: =mpc*F38 -> 9.9999619 | E38: =C38+D38 -> 19.999962 | F38: =E37 -> 19.999924 | G38: =F38 -> 19.999924 | H38: ='The Multiplier Model'!B$4/(1-mpc) -> 20 | M38: =J$3+F38 -> 119.99992 | N38: =J$3+G38 -> 119.99992
A39: =A38 -> 19 | B39: 2 | C39: ='The Multiplier Model'!B$4 -> 10 | D39: =mpc*F39 -> 9.9999619 | E39: =C39+D39 -> 19.999962 | F39: =F38 -> 19.999924 | G39: =E39 -> 19.999962 | H39: ='The Multiplier Model'!B$4/(1-mpc) -> 20 | M39: =J$3+F39 -> 119.99992 | N39: =J$3+G39 -> 119.99996
A40: =A39+1 -> 20 | B40: 1 | C40: ='The Multiplier Model'!B$4 -> 10 | D40: =mpc*F40 -> 9.9999809 | E40: =C40+D40 -> 19.999981 | F40: =E39 -> 19.999962 | G40: =F40 -> 19.999962 | H40: ='The Multiplier Model'!B$4/(1-mpc) -> 20 | M40: =J$3+F40 -> 119.99996 | N40: =J$3+G40 -> 119.99996
...
